BEGIN:VCALENDAR
VERSION:2.0
PRODID:Events Booking
BEGIN:VEVENT
UID:69e4cfbf811b8
SUMMARY:Yoga
DESCRIPTION:
 A low impact class designed to increase your range of motion
 \, strength\, and flexibility. You will learn how to safely stretch your l
 egs\, hips\, shoulders and back while building you muscles\, and balance n
 eeded to actively use your flexibility.
 &nbsp\;
 
 Taught by Michelle
LOCATION:170-190 Yorktown Rd\, Craigmore SA 5114
DTSTART:20260422T000000Z
DTEND:20260422T010000Z
DTSTAMP:20260419T125111Z
ORGANIZER;CN=Phoenix Studio Adelaide:MAILTO:admin@phoenixstudioadelaide.com
 .au
GEO:-34.70841;138.707378
X-APPLE-STRUCTURED-LOCATION;VALUE=URI;X-ADDRESS=170-190 Yorktown Rd\, Craig
 more SA 5114;X-APPLE-RADIUS=72;X-TITLE=Phoenix Studio Adelaide:-34.70841;1
 38.707378
END:VEVENT
END:VCALENDAR